View In:
ArcGIS JavaScript
ArcGIS Online Map Viewer
ArcGIS Earth
Service Description: High resolution land cover dataset for Los Angeles, CA. Eight land cover classes were mapped: (1) tree canopy, (2) grass/shrub, (3) bare earth, (4) water, (5) buildings, (6) roads, (7) other paved surfaces, and (8) tall shrubs. The primary source used to derive this land cover dataset was LARIAC5 (2017) aerial imagery. Esri Imagery Team created a deep learning model to perform land cover classification on aerial imagery. Esri Professional Services then performed the classification for LA County Public Works.
The deep learning model can be downloaded here: https://www.arcgis.com/home/item.html?id=c1bca075efb145d9a26394b866cd05eb
Work was funded by LA County Public Works Stormwater Planning Division. Please contact Bowen Liang (BLiang@dpw.lacounty.gov) or Christine Lam (CLam@dpw.lacounty.gov) if you have any questions.
Name: LARIAC5/LANDCOVER_2017
Description: High resolution land cover dataset for Los Angeles, CA. Eight land cover classes were mapped: (1) tree canopy, (2) grass/shrub, (3) bare earth, (4) water, (5) buildings, (6) roads, (7) other paved surfaces, and (8) tall shrubs. The primary source used to derive this land cover dataset was LARIAC5 (2017) aerial imagery. Esri Imagery Team created a deep learning model to perform land cover classification on aerial imagery. Esri Professional Services then performed the classification for LA County Public Works.
The deep learning model can be downloaded here: https://www.arcgis.com/home/item.html?id=c1bca075efb145d9a26394b866cd05eb
Work was funded by LA County Public Works Stormwater Planning Division. Please contact Bowen Liang (BLiang@dpw.lacounty.gov) or Christine Lam (CLam@dpw.lacounty.gov) if you have any questions.
Single Fused Map Cache: false
Extent:
XMin: -1.3241541942078302E7
YMin: 3934095.2327129263
XMax: -1.3096720297171012E7
YMax: 4140818.809040079
Spatial Reference: 102100
(3857)
LatestVCSWkid(0)
Initial Extent:
XMin: -1.3241541942078302E7
YMin: 3934095.2327129263
XMax: -1.3096720297171012E7
YMax: 4140818.809040079
Spatial Reference: 102100
(3857)
LatestVCSWkid(0)
Full Extent:
XMin: -1.3241541942078302E7
YMin: 3934095.2327129263
XMax: -1.3096720297171012E7
YMax: 4140818.809040079
Spatial Reference: 102100
(3857)
LatestVCSWkid(0)
Pixel Size X: 0.09753619507239035
Pixel Size Y: 0.0975361950723901
Band Count: 1
Pixel Type: S32
RasterFunction Infos: {"rasterFunctionInfos": [{
"name": "None",
"description": "Make a Raster or Raster Dataset into a Function Raster Dataset.",
"help": ""
}]}
Mensuration Capabilities: Basic
Inspection Capabilities:
Has Histograms: true
Has Colormap: true
Has Multi Dimensions : false
Rendering Rule:
Min Scale: 0
Max Scale: 0
Copyright Text: Los Angeles County Public Works, Esri
Service Data Type: esriImageServiceDataTypeThematic
Min Values: 1
Max Values: 8
Mean Values: 3.6220073472798
Standard Deviation Values: 2.0596690034446
Object ID Field:
Fields:
None
Default Mosaic Method: Center
Allowed Mosaic Methods:
SortField:
SortValue: null
Mosaic Operator: First
Default Compression Quality: 75
Default Resampling Method: Bilinear
Max Record Count: null
Max Image Height: 4100
Max Image Width: 15000
Max Download Image Count: null
Max Mosaic Image Count: null
Allow Raster Function: true
Allow Copy: true
Allow Analysis: true
Allow Compute TiePoints: false
Supports Statistics: false
Supports Advanced Queries: false
Use StandardizedQueries: true
Raster Type Infos:
Name: Raster Dataset
Description: Supports all ArcGIS Raster Datasets
Help:
Has Raster Attribute Table: true
Edit Fields Info: null
Ownership Based AccessControl For Rasters: null
Child Resources:
Info
Raster Attribute Table
Histograms
Statistics
Key Properties
Color Map
Legend
Raster Function Infos
Supported Operations:
Export Image
Identify
Measure
Compute Histograms
Compute Statistics Histograms
Get Samples
Compute Class Statistics
Query Boundary
Compute Pixel Location
Compute Angles
Validate
Project